BEGIN:VCALENDAR
VERSION:2.0
PRODID:-//eventon.com NONSGML v1.0//EN
CALSCALE:GREGORIAN
METHOD:PUBLISH
BEGIN:VEVENT
UID:69e768d21c5ca
DTSTAMP:20260421T120850Z
DTSTART:20260420T133000Z
DTEND:20260420T150000Z
LOCATION:2932 Northwestern Av 2932 Northwestern Av
SUMMARY:Growing in Maturity
DESCRIPTION:This is open to any adult wanting to grow in a Sunday School fo
 rmat. Breakfast is provided.\nhttps://every1one.org/events/growing-in-matur
 ity-discipleship-group/var/ri-13.l-L1
URL:https://every1one.org/events/growing-in-maturity-discipleship-group/var/ri-13.l-L1
END:VEVENT
END:VCALENDAR